BEGIN:VCALENDAR
VERSION:2.0
PRODID:-//Talks.cam//talks.cam.ac.uk//
X-WR-CALNAME:Talks.cam
BEGIN:VEVENT
SUMMARY:Tuberculosis as an inflammatory disease: insights from the zebrafi
 sh - Lalita Ramakrishnan ( University of Washington)
DTSTART:20130913T120000Z
DTEND:20130913T130000Z
UID:TALK46286@talks.cam.ac.uk
CONTACT:Dr Tennie Videler
DESCRIPTION:Abstract not available
LOCATION:Sackler Lecture Theater on level 7 of the CIMR (Cambridge Institu
 te for Medical Research)
END:VEVENT
END:VCALENDAR
