BEGIN:VCALENDAR
VERSION:2.0
PRODID:-//Talks.cam//talks.cam.ac.uk//
X-WR-CALNAME:Talks.cam
BEGIN:VEVENT
SUMMARY:Pathogen Defence in the Lymph Node - From Innate to Adaptive Immun
 ity - Wolfgang Kastenmuller\, Bonn University
DTSTART:20130927T120000Z
DTEND:20130927T130000Z
UID:TALK46287@talks.cam.ac.uk
CONTACT:Dr Tennie Videler
DESCRIPTION:Abstract not available
LOCATION:Sackler Lecture Theater on level 7 of the CIMR (Cambridge Institu
 te for Medical Research)
END:VEVENT
END:VCALENDAR
