BEGIN:VCALENDAR
VERSION:2.0
PRODID:-//Talks.cam//talks.cam.ac.uk//
X-WR-CALNAME:Talks.cam
BEGIN:VEVENT
SUMMARY:“The psychological skills of music performance: The missing link
  in the training of performing artists” - Dr. Jon Skidmore\,  Brigham Yo
 ung University\, Utah
DTSTART:20130911T160000Z
DTEND:20130911T173000Z
UID:TALK46546@talks.cam.ac.uk
CONTACT:Ewa Illakowicz
DESCRIPTION:\n\n\n\n\n\n\nContact Pam Burnard (pab61@cam.ac.uk) if you are
  intending to come\n\n
LOCATION:Faculty of Education\, 184 Hills Road\, Cambridge\, CB2 8PQ\, DMB
 \, Room GS3
END:VEVENT
END:VCALENDAR
