BEGIN:VCALENDAR
VERSION:2.0
PRODID:-//Talks.cam//talks.cam.ac.uk//
X-WR-CALNAME:Talks.cam
BEGIN:VEVENT
SUMMARY:Cambridge Network Event: Breakfast Networking on Accessing Interna
 tional Markets - Dr Nick Hill and David Moir
DTSTART:20130926T070000Z
DTEND:20130926T090000Z
UID:TALK46670@talks.cam.ac.uk
CONTACT:Louise Rushworth
DESCRIPTION:For our first breakfast networking session of the Autumn we're
  delighted to hear about experiences in accessing international markets wi
 th presentations from Cambridge-based SME\, Sureflap\, FedEx and UK Trade 
 & Investment. This first session is free to members and non-members.\n\nEv
 ent details:\n\nJoining us at the session will be award-winning Cambridge-
 based SureFlap\, makers of a range of innovative microchip operated cat fl
 aps which use patented low-power RFID (Radio Frequency Identification) tec
 hnology developed in Cambridge (UK) by Dr Nick Hill.\n\nDue to high demand
 \, SureFlap started to ship their award-winning cat flaps overseas for the
  first time in 2010 and since then sales have increased six-fold.  Founder
  Dr Nick Hill will provide a fascinating cat's-eye view of this export-led
  growth period. \n\nThis session will highlight some of the challenges and
  rewards of going global. FedEx and UK Trade & Investment will be on hnad 
 with a Q&A. \n\nPlease bring along your business cards and network with ot
 her delegates attending.\n \n\nTimings:\n\n08:00 Registration and networki
 ng over coffee & bacon rolls\n\n08:30 Introduction: FedEx\n\n08:40 Dr Nick
  Hill\, MD and original inventor\, SureFlap\n\n09.00 David Moir\, UK Trade
  & Investment\n\n09:15 Q&A followed by further networking\n\n10:00 Event c
 loses\n\n﻿\n\nTo attend:\n\nAny Cambridge Network member may attend\, wi
 th priority given to members with under 50 staff.﻿﻿ There is no charge
  for members to attend this first session. Please register by clicking on 
 this link - http://www.cambridgenetwork.co.uk/events/breakfast-networking-
 sep13/\n\n  \nNon-members may also attend this session - please email dawn
 .nicholls@cambridgenetwork.co.uk to be added to the list. \n\nThis event i
 s in association with new Cambridge Network Founder Member:  FedEx\n\n ﻿
 ﻿﻿﻿\n\nNext in this series:﻿﻿\n\nWe plan to run 10 networking ev
 ents over the next year\, aimed at a group size of around 30 - 40 people a
 nd focussing on topics such as HR\, Marketing\, Sales\, IT\, Finance etc. 
 If you would like to speak at a future breakfast meeting\, please send det
 ails of your proposed topic to andrea.mitchell@cambridgenetwork.co.uk for 
 consideration.﻿﻿﻿\n
LOCATION:West Cafe\, Hauser Forum\, 3 Charles Babbage Road\, Cambridge\, C
 B3 0GT
END:VEVENT
END:VCALENDAR
