BEGIN:VCALENDAR
VERSION:2.0
PRODID:-//Talks.cam//talks.cam.ac.uk//
X-WR-CALNAME:Talks.cam
BEGIN:VEVENT
SUMMARY:Lecture 1: Concentration of measure (tutorial) - Szarek\, SJ (Case
  Western Reserve University)
DTSTART:20130905T130000Z
DTEND:20130905T140000Z
UID:TALK46970@talks.cam.ac.uk
CONTACT:Mustapha Amrani
DESCRIPTION:I will present an overview of the concentration of measure phe
 nomenon\, results and techniques\, starting with Levy's isoperimetric ineq
 uality on the Euclidean sphere and following up with examples in other set
 tings: Gaussian\, discrete etc. I will also sketch some applications such 
 as Dvoretzky's theorem on almost spherical sections of convex bodies and i
 ndicate some links to quantum information. \n
LOCATION:Seminar Room 1\, Newton Institute
END:VEVENT
END:VCALENDAR
