BEGIN:VCALENDAR
VERSION:2.0
PRODID:-//Talks.cam//talks.cam.ac.uk//
X-WR-CALNAME:Talks.cam
BEGIN:VEVENT
SUMMARY:Regulatory B cells: Novel faces and mechanisms - Simon Fillatreau\
 , Deutsches Rheuma-ForschungsZentrum\, Berlin
DTSTART:20131206T130000Z
DTEND:20131206T140000Z
UID:TALK47048@talks.cam.ac.uk
CONTACT:Dr Tennie Videler
DESCRIPTION:Abstract not available
LOCATION:CIMR (Cambridge Institute for Medical Research)\, Sackler Lecture
  Theater on level 7
END:VEVENT
END:VCALENDAR
