BEGIN:VCALENDAR
VERSION:2.0
PRODID:-//Talks.cam//talks.cam.ac.uk//
X-WR-CALNAME:Talks.cam
BEGIN:VEVENT
SUMMARY:“A Tale of Tangle DNA And Diabetes” - Dr Robert Semple
DTSTART:20130918T123000Z
DTEND:20130918T130000Z
UID:TALK47272@talks.cam.ac.uk
CONTACT:Jason Lynch
DESCRIPTION:Abstract not available
LOCATION:William Harvey Lecture Theatre
END:VEVENT
END:VCALENDAR
