BEGIN:VCALENDAR
VERSION:2.0
PRODID:-//Talks.cam//talks.cam.ac.uk//
X-WR-CALNAME:Talks.cam
BEGIN:VEVENT
SUMMARY:The organizational theory of sexiness - Gordon Euchler
DTSTART:20060321T124500Z
DTEND:20060321T140000Z
UID:TALK4742@talks.cam.ac.uk
CONTACT:Alan Blackwell
DESCRIPTION:Details to be confirmed
LOCATION:Entertaining Room\, Darwin College
END:VEVENT
END:VCALENDAR
