BEGIN:VCALENDAR
VERSION:2.0
PRODID:-//Talks.cam//talks.cam.ac.uk//
X-WR-CALNAME:Talks.cam
BEGIN:VEVENT
SUMMARY:reading-group: Divergence measures and message passing - Speaker t
 o be confirmed
DTSTART:20060202T110000Z
DTEND:20060202T120000Z
UID:TALK4743@talks.cam.ac.uk
CONTACT:David MacKay
DESCRIPTION:http://research.microsoft.com/~minka/papers/message-passing/\n
 ---\nPlease note also Tom Minka's talk on this next Tuesday.
LOCATION:Room 911\, Rutherford Building\, Cavendish Laboratory\, Departmen
 t of Physics
END:VEVENT
END:VCALENDAR
