BEGIN:VCALENDAR
VERSION:2.0
PRODID:-//Talks.cam//talks.cam.ac.uk//
X-WR-CALNAME:Talks.cam
BEGIN:VEVENT
SUMMARY:Introduction into Transmission and Scanning Transmission Electron 
 Microscopy (TEM & STEM) - Dr. A. Bleloch\, (PCS/SuperSTEM Daresbury)
DTSTART:20060209T110000Z
DTEND:20060209T120000Z
UID:TALK4744@talks.cam.ac.uk
CONTACT:Duncan Simpson
DESCRIPTION:		 \n
LOCATION:Mott Seminar Room\, Cavendish Laboratory\, Department of Physics
END:VEVENT
END:VCALENDAR
