BEGIN:VCALENDAR
VERSION:2.0
PRODID:-//Talks.cam//talks.cam.ac.uk//
X-WR-CALNAME:Talks.cam
BEGIN:VEVENT
SUMMARY:(Environmental) Scanning Electron Microscopy (SEM & ESEM) - Dr. D 
 Stokes\, Biological and Soft Systems\, Dept of Physics
DTSTART:20060309T110000Z
DTEND:20060309T120000Z
UID:TALK4748@talks.cam.ac.uk
CONTACT:Duncan Simpson
DESCRIPTION:Details to be confirmed
LOCATION:Mott Seminar Room\, Cavendish Laboratory\, Department of Physics
END:VEVENT
END:VCALENDAR
