BEGIN:VCALENDAR
VERSION:2.0
PRODID:-//Talks.cam//talks.cam.ac.uk//
X-WR-CALNAME:Talks.cam
BEGIN:VEVENT
SUMMARY:Sri Lanka’s visual identity: from Ceylon tea to Tamil Tigers  - 
 Dr Annamaria Motrescu-Mayes\, Research Fellow\, Clare Hall\; Affiliated Le
 cturer and Research Associate\, Centre of South Asian Studies
DTSTART:20131125T163000Z
DTEND:20131125T180000Z
UID:TALK47671@talks.cam.ac.uk
CONTACT:Dr Annamaria Motrescu-Mayes
DESCRIPTION:Issues of imperial and national representations of Ceylon / Sr
 i Lanka’s cultural and economic traditions and of recent military confli
 ct are discussed in relation to specific cinematic narratives\, from colon
 ial documentaries to TV reportages. (Participants might find some of the i
 mages disturbing.)\n
LOCATION:S3 Seminar Room\, Alison Richard Building\, 7 West Road\, Cambrid
 ge\, CB3 9DP.
END:VEVENT
END:VCALENDAR
