BEGIN:VCALENDAR
VERSION:2.0
PRODID:-//Talks.cam//talks.cam.ac.uk//
X-WR-CALNAME:Talks.cam
BEGIN:VEVENT
SUMMARY:Moral and Institutional Desert - Jules Holroyd (Nottingham)
DTSTART:20131011T120000Z
DTEND:20131011T133000Z
UID:TALK47925@talks.cam.ac.uk
CONTACT:Dr Duncan Bell
DESCRIPTION:Abstract not available
LOCATION:Coleridge Room\, Jesus College
END:VEVENT
END:VCALENDAR
