BEGIN:VCALENDAR
VERSION:2.0
PRODID:-//Talks.cam//talks.cam.ac.uk//
X-WR-CALNAME:Talks.cam
BEGIN:VEVENT
SUMMARY:Depression in Pregnancy: Molecular and Psychosocial Consequences -
  Prof. Carmine Pariante\, Head of the Stress\, Psychiatry and Immunology L
 aboratory and of the Section of Perinatal Psychiatry\, IoP
DTSTART:20140123T123000Z
DTEND:20140123T133000Z
UID:TALK47938@talks.cam.ac.uk
DESCRIPTION:Abstract not available
LOCATION:CHANGE OF VENUE: Block 14\, Ida Darwin Hospital\, Fulbourn
END:VEVENT
END:VCALENDAR
