BEGIN:VCALENDAR
VERSION:2.0
PRODID:-//Talks.cam//talks.cam.ac.uk//
X-WR-CALNAME:Talks.cam
BEGIN:VEVENT
SUMMARY:Better Looking\, Better Living\, Better Loving - Dr John Emsley
DTSTART:20131018T190000Z
DTEND:20131018T200000Z
UID:TALK48025@talks.cam.ac.uk
CONTACT:Ivan Lam
DESCRIPTION:_Better Looking\, Better Living\, Better Loving_ is about the 
 often unacknowledged role of chemistry in grooming\, health\, food\, and l
 ove making\, and which takes the form of the many products that chemists h
 ave devised to improve these areas of our life.\n\n_Better looking_ will f
 ocus on the cosmetics and skin treatments that make people feel better abo
 ut themselves\, as well as the less serious problems of the baldness that 
 afflicts men and how to deal with hairy chests.\n\n_Better living_ will lo
 ok at the way in which chemists can solve the problem of feeding 9 billion
  people\, and have put an end to a life-long mental condition that once bl
 ighted millions of lives.\n\n_Better loving_ will focus on the role of che
 mistry in both recreational and procreational sex – and how it can help 
 when things go wrong.\n\n*Entry is free to all and free refreshments will 
 be provided.*
LOCATION:Pfizer Lecture Theatre\, Department of Chemistry
END:VEVENT
END:VCALENDAR
