BEGIN:VCALENDAR
VERSION:2.0
PRODID:-//Talks.cam//talks.cam.ac.uk//
X-WR-CALNAME:Talks.cam
BEGIN:VEVENT
SUMMARY:Cavendish Graduate Student Conference on Physics 2013 - Various Sp
 eakers
DTSTART:20131206T084500Z
DTEND:20131206T171500Z
UID:TALK48199@talks.cam.ac.uk
CONTACT:Adam Esmail
DESCRIPTION:This one-day long conference will bring together young researc
 hers from various groups to discuss their exciting work and aims to promot
 e inter-group collaborations between students. The conference is open to a
 ll members of the Cavendish\, IoA and Nanoscience.
LOCATION:Pippard Lecture Theatre\, Cavendish Laboratory
END:VEVENT
END:VCALENDAR
