BEGIN:VCALENDAR
VERSION:2.0
PRODID:-//Talks.cam//talks.cam.ac.uk//
X-WR-CALNAME:Talks.cam
BEGIN:VEVENT
SUMMARY:IceCube: seeing the high energy universe - Subir Sarkar (Oxford)
DTSTART:20131122T160000Z
DTEND:20131122T170000Z
UID:TALK48512@talks.cam.ac.uk
CONTACT:Damien George
DESCRIPTION:The IceCube Neutrino Observatory at the South Pole has reporte
 d 28 events initiated by cosmic neutrinos of ~TeV-PeV energies which are v
 ery unlikely to have originated from cosmic ray interactions in the Earth'
 s atmosphere.  I will discuss the data and some possible interpretations -
  both astrophysical and involving new physics.
LOCATION:Seminar Room B\, Rutherford Building\, Cavendish Laboratory
END:VEVENT
END:VCALENDAR
