BEGIN:VCALENDAR
VERSION:2.0
PRODID:-//Talks.cam//talks.cam.ac.uk//
X-WR-CALNAME:Talks.cam
BEGIN:VEVENT
SUMMARY:"'You could never know what was going on in their minds.' The inte
 raction between Soviet Tajiks and Afghans during the Soviet occupation of 
 Afghanistan\, 1979-1989" - Markus Balazs Goransson\, PhD Candidate\, Depar
 tment of International Relations\, Aberystwyth University
DTSTART:20131121T110000Z
DTEND:20131121T130000Z
UID:TALK48528@talks.cam.ac.uk
CONTACT:Prajakti Kalra
DESCRIPTION:Abstract not available
LOCATION: Room S1\, Alison Richard Building\, 7 West Road\, Cambridge\, CB
 3 9DT
END:VEVENT
END:VCALENDAR
