BEGIN:VCALENDAR
VERSION:2.0
PRODID:-//Talks.cam//talks.cam.ac.uk//
X-WR-CALNAME:Talks.cam
BEGIN:VEVENT
SUMMARY:A second order multi scale model for image texture analysis - Maï
 tine Bergounioux (Université d'Orléans)
DTSTART:20140306T150000Z
DTEND:20140306T160000Z
UID:TALK48638@talks.cam.ac.uk
CONTACT:Carola-Bibiane Schoenlieb
DESCRIPTION:Abstract not available
LOCATION:MR 14\, CMS
END:VEVENT
END:VCALENDAR
