BEGIN:VCALENDAR
VERSION:2.0
PRODID:-//Talks.cam//talks.cam.ac.uk//
X-WR-CALNAME:Talks.cam
BEGIN:VEVENT
SUMMARY:Towards writing 'A User Guide for Planet Earth' - Julian Allwood
DTSTART:20140211T210000Z
DTEND:20140211T213000Z
UID:TALK48678@talks.cam.ac.uk
CONTACT:Dr Ed Brambley
DESCRIPTION:Abstract not available
LOCATION:Senior Parlour\, Gonville & Caius College
END:VEVENT
END:VCALENDAR
