BEGIN:VCALENDAR
VERSION:2.0
PRODID:-//Talks.cam//talks.cam.ac.uk//
X-WR-CALNAME:Talks.cam
BEGIN:VEVENT
SUMMARY:Transcription factors in the balance between tolerance and im
 munity - Rahul Roychoudhury\, National Cancer Institute\, NIH
DTSTART:20131125T111500Z
DTEND:20131125T121500Z
UID:TALK48827@talks.cam.ac.uk
CONTACT:35523
DESCRIPTION:Abstract not available
LOCATION:Sir Brian Heap Seminar Room\, The Babraham Institute
END:VEVENT
END:VCALENDAR
