BEGIN:VCALENDAR
VERSION:2.0
PRODID:-//Talks.cam//talks.cam.ac.uk//
X-WR-CALNAME:Talks.cam
BEGIN:VEVENT
SUMMARY:Found in Translation: Hydroxylases target the protein synthesis ap
 paratus - Dr Mathew Coleman\, School of Cancer Science\, University of Bir
 mingham
DTSTART:20131128T130000Z
DTEND:20131128T140000Z
UID:TALK48833@talks.cam.ac.uk
CONTACT:35527
DESCRIPTION:Abstract not available
LOCATION:Sir Brian Heap Seminar Room\, The Babraham Institute
END:VEVENT
END:VCALENDAR
