BEGIN:VCALENDAR
VERSION:2.0
PRODID:-//Talks.cam//talks.cam.ac.uk//
X-WR-CALNAME:Talks.cam
BEGIN:VEVENT
SUMMARY:IMAGiNG and MATHEMATiCS workshops - Hendrik Dirks (DAMTP Cambridge
 /University of Münster)\, Kirsty Wan (DAMTP\, Cambridge)\, Joan Lasenby (
 Engineering Department\, Cambridge)\, Patrice Mascalchi (CRUK CI\, Cambrid
 ge)\, Siru Virtanen (CRUK CI\, Cambridge)\, Isabel Peset Martin (CRUK CI\,
  Cambridge)
DTSTART:20131203T140000Z
DTEND:20131203T170000Z
UID:TALK49052@talks.cam.ac.uk
CONTACT:Stefanie Reichelt
DESCRIPTION:3rd December\, 2-5pm \nat the CRUK Cambridge Institute.\n\nThe
  workshop format is not a scientific meeting\, but a very practical discus
 sion day. We have chosen six speakers with imaging projects\, questions or
  software \ndevelopments\, which might benefit from input from mathematici
 ans and \nbio-informaticians and also software and algorithm developers.\n
 \nThe aim is to have short presentations and a lot of discussions.\n\n\nCa
 rola Schönlieb & Stefanie Reichelt\n\n\nSession 1: 2-3pm\nHendrik Dirks (
 DAMTP Cambridge/University of Münster)\nKirsty Wan (DAMTP\, Cambridge)\nJ
 oan Lasenby (Engineering Department\, Cambridge)\n\ntea break\n\nSession 2
 : 3:30-4:30pm\nPatrice Mascalchi (CRUK CI\, Cambridge)\nSiru Virtanen (CRU
 K CI\, Cambridge)\nIsabel Peset Martin (CRUK CI\, Cambridge)\n\n\nLight Mi
 croscopy in Cambridge is now on facebook:\nhttps://www.facebook.com/groups
 /491162727587920/\n\n
LOCATION:CRUK CI\, lecture theatre\, Robinson Way\, Cambridge CB2 0RE
END:VEVENT
END:VCALENDAR
