BEGIN:VCALENDAR
VERSION:2.0
PRODID:-//Talks.cam//talks.cam.ac.uk//
X-WR-CALNAME:Talks.cam
BEGIN:VEVENT
SUMMARY:Biofuels - Karl Carter\, British Sugar
DTSTART:20061201T133000Z
DTEND:20061201T141000Z
UID:TALK4926@talks.cam.ac.uk
CONTACT:David MacKay
DESCRIPTION:Abstract not available
LOCATION:Pippard Lecture Theatre\, Cavendish Laboratory\, Department of Ph
 ysics
END:VEVENT
END:VCALENDAR
