BEGIN:VCALENDAR
VERSION:2.0
PRODID:-//Talks.cam//talks.cam.ac.uk//
X-WR-CALNAME:Talks.cam
BEGIN:VEVENT
SUMMARY:Title to be confirmed - Helena Rubinstein\, University of Cambridg
 e
DTSTART:20140311T130000Z
DTEND:20140311T140000Z
UID:TALK49303@talks.cam.ac.uk
CONTACT:Rebecca Noorderhaven
DESCRIPTION:Abstract not available
LOCATION:PPSIS Seminar Room (Free School Lane)
END:VEVENT
END:VCALENDAR
