BEGIN:VCALENDAR
VERSION:2.0
PRODID:-//Talks.cam//talks.cam.ac.uk//
X-WR-CALNAME:Talks.cam
BEGIN:VEVENT
SUMMARY:Annual WiSETI Lecture: Growing organs and other small challenges -
  Professor Molly Stevens\, Imperial College London
DTSTART:20140312T170000Z
DTEND:20140312T180000Z
UID:TALK49416@talks.cam.ac.uk
CONTACT:Equality & Diversity
DESCRIPTION:Professor Molly Stevens from Imperial College\, London heads a
  large multidisciplinary team\, from surgeons to engineers\, specialising 
 in biomedical materials and regenerative medicine.\n\nDrinks reception to 
 follow.\n\n*To book a ticket\, visit  http://wiseti-2014.eventbrite.co.uk 
 *\n
LOCATION:Auditorium\, Robinson College\, Grange Road
END:VEVENT
END:VCALENDAR
