BEGIN:VCALENDAR
VERSION:2.0
PRODID:-//Talks.cam//talks.cam.ac.uk//
X-WR-CALNAME:Talks.cam
BEGIN:VEVENT
SUMMARY:Hands-free writing - David Mackay\, Darwin College/Inference Group
 \, Cavendish Lab
DTSTART:20060608T114500Z
DTEND:20060608T130000Z
UID:TALK4973@talks.cam.ac.uk
CONTACT:Dr. Giselle Walker
DESCRIPTION:Abstract not available
LOCATION:Entertaining Room\, Darwin College
END:VEVENT
END:VCALENDAR
