BEGIN:VCALENDAR
VERSION:2.0
PRODID:-//Talks.cam//talks.cam.ac.uk//
X-WR-CALNAME:Talks.cam
BEGIN:VEVENT
SUMMARY:Characterising classical minimal surfaces via the entropy differen
 tial -  Thomas Mettler  (Oxford)
DTSTART:20140225T160000Z
DTEND:20140225T170000Z
UID:TALK49743@talks.cam.ac.uk
CONTACT:Professor Maciej Dunajski
DESCRIPTION:Abstract not available
LOCATION:DAMTP\, room MR11
END:VEVENT
END:VCALENDAR
