BEGIN:VCALENDAR
VERSION:2.0
PRODID:-//Talks.cam//talks.cam.ac.uk//
X-WR-CALNAME:Talks.cam
BEGIN:VEVENT
SUMMARY:Gravitational flow of the Calabrian Arc and plate motion of the Io
 nian Sea - Nicola D'Agostino\, INGV Rome
DTSTART:20140212T160000Z
DTEND:20140212T170000Z
UID:TALK49782@talks.cam.ac.uk
CONTACT:David Al-Attar
DESCRIPTION:Abstract not available
LOCATION:Marine/Wolfson Building lecture hall
END:VEVENT
END:VCALENDAR
