BEGIN:VCALENDAR
VERSION:2.0
PRODID:-//Talks.cam//talks.cam.ac.uk//
X-WR-CALNAME:Talks.cam
BEGIN:VEVENT
SUMMARY:Shear-velocity structure\, tectonics and volcanism of the Tyrrheni
 an Sea: mantle (de)hydration of a back-arc basin  - Dr Hanneke Paulssen\, 
 University of Utrecht
DTSTART:20140226T160000Z
DTEND:20140226T170000Z
UID:TALK49783@talks.cam.ac.uk
CONTACT:David Al-Attar
DESCRIPTION:Abstract not available
LOCATION:Marine/Wolfson Building lecture hall
END:VEVENT
END:VCALENDAR
