BEGIN:VCALENDAR
VERSION:2.0
PRODID:-//Talks.cam//talks.cam.ac.uk//
X-WR-CALNAME:Talks.cam
BEGIN:VEVENT
SUMMARY:Probabilistic graphical models in the assessment of socio-economic
  and environmental impacts of community deployed energy interventions - Ph
 illip Leicester\, Loughborough University
DTSTART:20140305T120000Z
DTEND:20140305T140000Z
UID:TALK49972@talks.cam.ac.uk
CONTACT:Aaron Gillich
DESCRIPTION:Abstract not available
LOCATION:CRASSH Alison Richard Building\, 7 West Road\, Cambridge\, CB3 9D
 T
END:VEVENT
END:VCALENDAR
