BEGIN:VCALENDAR
VERSION:2.0
PRODID:-//Talks.cam//talks.cam.ac.uk//
X-WR-CALNAME:Talks.cam
BEGIN:VEVENT
SUMMARY:“One Step At A Time” - Dr George Collins on behalf of Dr A Col
 l
DTSTART:20140115T133000Z
DTEND:20140115T140000Z
UID:TALK50015@talks.cam.ac.uk
CONTACT:Jason Lynch
DESCRIPTION:Abstract not available
LOCATION:William Harvey Lecture Theatre
END:VEVENT
END:VCALENDAR
