BEGIN:VCALENDAR
VERSION:2.0
PRODID:-//Talks.cam//talks.cam.ac.uk//
X-WR-CALNAME:Talks.cam
BEGIN:VEVENT
SUMMARY:War is the Health of Advertising\,. US Admen in the World Wars - F
 erdinando Fasce\, University of Genoa
DTSTART:20140127T170000Z
DTEND:20140127T190000Z
UID:TALK50162@talks.cam.ac.uk
CONTACT:Suzanne Donovan
DESCRIPTION:Abstract not available
LOCATION:Latimer Room\, Clare College Old Court
END:VEVENT
END:VCALENDAR
