BEGIN:VCALENDAR
VERSION:2.0
PRODID:-//Talks.cam//talks.cam.ac.uk//
X-WR-CALNAME:Talks.cam
BEGIN:VEVENT
SUMMARY:Nuclear: Game Changer or Portfolio Changer? - Samarth Sharma\, ARE
 VA
DTSTART:20140130T163000Z
DTEND:20140130T180000Z
UID:TALK50485@talks.cam.ac.uk
CONTACT:Jo Boyle
DESCRIPTION:Abstract not available
LOCATION:Cambridge University Engineering Department\, Lecture Room 6
END:VEVENT
END:VCALENDAR
