BEGIN:VCALENDAR
VERSION:2.0
PRODID:-//Talks.cam//talks.cam.ac.uk//
X-WR-CALNAME:Talks.cam
BEGIN:VEVENT
SUMMARY:Title to be confirmed - Pin Yu (Tsinghua University)
DTSTART:20140127T131500Z
DTEND:20140127T140000Z
UID:TALK50592@talks.cam.ac.uk
CONTACT:HoD Secretary\, DPMMS
DESCRIPTION:Abstract not available
LOCATION:CMS\, MR5
END:VEVENT
END:VCALENDAR
