BEGIN:VCALENDAR
VERSION:2.0
PRODID:-//Talks.cam//talks.cam.ac.uk//
X-WR-CALNAME:Talks.cam
BEGIN:VEVENT
SUMMARY:Odorant space: From chemistry to physiology - Dr Michael Schmuker\
 ,  Neuroinformatics & Theoretical Neuroscience\, Freie Universität Berlin
DTSTART:20140325T141500Z
DTEND:20140325T154500Z
UID:TALK50665@talks.cam.ac.uk
CONTACT:Susan Begg
DESCRIPTION:Abstract not available
LOCATION:Unilever Lecture Theatre
END:VEVENT
END:VCALENDAR
