BEGIN:VCALENDAR
VERSION:2.0
PRODID:-//Talks.cam//talks.cam.ac.uk//
X-WR-CALNAME:Talks.cam
BEGIN:VEVENT
SUMMARY:Title to be confirmed - Professor Luke O'Neill\, Director\, Trinit
 y Biomedical Sciences Institute\, Trinity College\, Dublin
DTSTART:20140902T110000Z
DTEND:20140902T120000Z
UID:TALK50924@talks.cam.ac.uk
CONTACT:Dr Ireena Dutta
DESCRIPTION:Abstract not available
LOCATION:Sackler Lecture Theatre (Level 7)\, Cambridge Institute for Medic
 al Research
END:VEVENT
END:VCALENDAR
