BEGIN:VCALENDAR
VERSION:2.0
PRODID:-//Talks.cam//talks.cam.ac.uk//
X-WR-CALNAME:Talks.cam
BEGIN:VEVENT
SUMMARY: Nano Fiber production\, scale-up\, commercialization and applicat
 ions - Miles Wright\, CEO\, Xanofi\, Inc.
DTSTART:20140225T140000Z
DTEND:20140225T153000Z
UID:TALK51162@talks.cam.ac.uk
CONTACT:Stoyan Smoukov
DESCRIPTION:The AIM lab is glad to host here Miles Wright\, the CEO of Xan
 ofi Inc. As part of his visit to Cambridge he will give a seminar on Techn
 ology and Entrepreneurship: "Nanofiber production\, scale-up\, commerciali
 zation and applications". It will tell about the history of the breakthrou
 gh shear nanospinning method which is by far the most efficient nanofiber 
 fabrication method. It will also detail some of the challenges (both techn
 ical and business) that had to be overcome to make it into a viable commer
 cial technology. \n\nThe lecture is open to the public and everyone intere
 sted is welcome to attend.\nPeople interested in meeting with the speaker 
 should contact the talk organizer.\n\nSpeaker's bio:\nMiles Wright\, CEO o
 f the nanotechnology company Xanofi\, is a successful business and entrepr
 eneurial leader. Miles has founded five separate companies\, served as CEO
  of two others\, and participated on several company boards. For the last 
 six years he has worked to commercialize advanced technology as Executive-
 in-Residence at North Carolina State University. He has co-founded two non
 -profit groups and continues to be actively involved in community organizi
 ng and relief programs. \n
LOCATION:Goldsmiths II lecture theatre\, Department of Materials Science a
 nd Metallurgy\, 27 Charles Babbage Rd\, Cambridge\, CB3 0FS
END:VEVENT
END:VCALENDAR
