BEGIN:VCALENDAR
VERSION:2.0
PRODID:-//Talks.cam//talks.cam.ac.uk//
X-WR-CALNAME:Talks.cam
BEGIN:VEVENT
SUMMARY:“The Wizard\, The Gatekeeper And The At Risk Mental State” - D
 r Graham Murray
DTSTART:20140305T130000Z
DTEND:20140305T133000Z
UID:TALK51265@talks.cam.ac.uk
CONTACT:Jason Lynch
DESCRIPTION:Abstract not available
LOCATION:William Harvey Lecture Theatre
END:VEVENT
END:VCALENDAR
