BEGIN:VCALENDAR
VERSION:2.0
PRODID:-//Talks.cam//talks.cam.ac.uk//
X-WR-CALNAME:Talks.cam
BEGIN:VEVENT
SUMMARY:myb gene determinants of air chamber formation in Marchantia polym
 orpha  - Bernardo Pollak
DTSTART:20140620T120000Z
DTEND:20140620T122500Z
UID:TALK51417@talks.cam.ac.uk
CONTACT:Megan Cooper
DESCRIPTION:This project seeks to identify MYB transcription factors invol
 ved in air chamber development in Marchantia polymorpha (Marchantia). Iden
 tification of these genes will enable the study of the gene-regulatory net
 works that initiate morphogenetic processes such as air pore and air chamb
 er formation and allow rewiring of these processes in detail. I will talk 
 recent advances of my project\, including strategies for mapping myb gene 
 expression and implementation of Cas9/CRISPR genome editing in Marchantia.
  
LOCATION:Department of Plant Sciences\, Large Lecture Theatre
END:VEVENT
END:VCALENDAR
