BEGIN:VCALENDAR
VERSION:2.0
PRODID:-//Talks.cam//talks.cam.ac.uk//
X-WR-CALNAME:Talks.cam
BEGIN:VEVENT
SUMMARY:To grow or not to grow - auxin-dependent differential growth regul
 ation - Jürgen Kleine-Vehn\, Universität für Bodenkultur Wien (BOKU)
DTSTART:20140416T150000Z
DTEND:20140416T160000Z
UID:TALK51467@talks.cam.ac.uk
CONTACT:Helen Mawdsley
DESCRIPTION:Abstract not available
LOCATION:Auditorium of The Sainsbury Laboratory (Bateman Street)
END:VEVENT
END:VCALENDAR
