BEGIN:VCALENDAR
VERSION:2.0
PRODID:-//Talks.cam//talks.cam.ac.uk//
X-WR-CALNAME:Talks.cam
BEGIN:VEVENT
SUMMARY:waiting for CR UK Cambridge Research Institute opening - Speaker t
 o be confirmed
DTSTART:20070110T160000Z
DTEND:20070110T170000Z
UID:TALK5160@talks.cam.ac.uk
CONTACT:Stefanie Reichelt
DESCRIPTION:we are waiting for the new CR UK Cambridge Research Institute 
 to open for research and will have the first lectures of this series in th
 e new year. Sorry for the delay ! 
LOCATION:CR-UK CRI
END:VEVENT
END:VCALENDAR
