BEGIN:VCALENDAR
VERSION:2.0
PRODID:-//Talks.cam//talks.cam.ac.uk//
X-WR-CALNAME:Talks.cam
BEGIN:VEVENT
SUMMARY:Performance Data Recorders - Stephen Green - Cosworth Group
DTSTART:20140619T173000Z
DTEND:20140619T190000Z
UID:TALK51692@talks.cam.ac.uk
CONTACT:Tim Wilkinson
DESCRIPTION:TBA
LOCATION:Lecture Theatre 0\, University of Cambridge Engineering Departmen
 t\, Trumpington Street\, Cambridge
END:VEVENT
END:VCALENDAR
