BEGIN:VCALENDAR
VERSION:2.0
PRODID:-//Talks.cam//talks.cam.ac.uk//
X-WR-CALNAME:Talks.cam
BEGIN:VEVENT
SUMMARY:Understanding Non-Literacy as a Barrier to Mobile Phone Communicat
 ion - Nathan Crilley and Lucia Terrenghi
DTSTART:20060803T100000Z
DTEND:20060803T113000Z
UID:TALK5193@talks.cam.ac.uk
CONTACT:Alan Blackwell
DESCRIPTION:J. Chipchase\, (2005). Understanding Non-Literacy as a Barrier
  to Mobile Phone Communication. Nokia Blue Sky\, 001-2005.\n\nOriginal abs
 tract: Emerging markets have higher numbers of textually non-literate peop
 le than more developed markets. Effective use of mobile phone features req
 uires an understanding of textual prompts. Contact management and asynchro
 nous communication in particular presents challenges for textually non-lit
 erate people. Solutions can be categorized as improvements to the phone\, 
 the ecosystem and to the operator infrastructure.\n\nAvailable online from
  http://research.nokia.com/bluesky/non-literacy-001-2005/index.html\n\nThi
 s will be an informal meeting\, as determined by the mid-summer timing.
LOCATION:Rainbow Room (FS07)\, Computer Laboratory
END:VEVENT
END:VCALENDAR
