BEGIN:VCALENDAR
VERSION:2.0
PRODID:-//Talks.cam//talks.cam.ac.uk//
X-WR-CALNAME:Talks.cam
BEGIN:VEVENT
SUMMARY:Shock Reflection\, von Neumann conjectures\, and free boundary pro
 blems - Feldman\, M (University of Wisconsin-Madison)
DTSTART:20140416T130000Z
DTEND:20140416T140000Z
UID:TALK51960@talks.cam.ac.uk
CONTACT:Mustapha Amrani
DESCRIPTION:We discuss shock reflection problem for compressible gas dynam
 ics\, and von Neumann \nconjectures on transition between regular and Mach
  reflections. Then we will talk about \nrecent results on existence of reg
 ular reflection solutions for potential flow equation up to \nthe detachme
 nt angle\, and discuss some techniques. The approach is to reduce the shoc
 k reflection problem to a free boundary problem for a nonlinear equation o
 f mixed elliptic-hyperbolic type. Open problems will also be discussed. Th
 e talk is based on the joint work with Gui-Qiang Chen. \n\n
LOCATION:Seminar Room 2\, Newton Institute Gatehouse
END:VEVENT
END:VCALENDAR
