BEGIN:VCALENDAR
VERSION:2.0
PRODID:-//Talks.cam//talks.cam.ac.uk//
X-WR-CALNAME:Talks.cam
BEGIN:VEVENT
SUMMARY:I'm stuck. I'm trapped. I can't take it anymore! Perspectives on m
 anaging pressure and surviving your job and your life. - Dr Jan van Nieker
 k and Mary-Jane Robinson
DTSTART:20140624T083000Z
DTEND:20140624T093000Z
UID:TALK52025@talks.cam.ac.uk
CONTACT:Equality & Diversity
DESCRIPTION:Stress is an inevitable part of life\, but can have a pernicio
 us impact on health and well-being.\n\nDrawing on tested approaches and th
 e newest research findings\, the session will offer problem-solving pointe
 rs for actively dealing with the causes of stress and reducing its impact 
 on mood\, anxiety and functioning.\n\n*To book a place\, please visit: htt
 p://imstuckimtrapped.eventbrite.co.uk *
LOCATION:Room 1\, Mill Lane Lecture Rooms
END:VEVENT
END:VCALENDAR
