BEGIN:VCALENDAR
VERSION:2.0
PRODID:-//Talks.cam//talks.cam.ac.uk//
X-WR-CALNAME:Talks.cam
BEGIN:VEVENT
SUMMARY:Peer Coaching For All  - Caroline Ellis 
DTSTART:20140625T100000Z
DTEND:20140625T120000Z
UID:TALK52049@talks.cam.ac.uk
CONTACT:Equality & Diversity
DESCRIPTION:Participants will learn about peer coaching skills to support 
 the development of coaching networks and internal expertise in Cambridge.\
 n\nThis session facilitated by Caroline Ellis of Pause Consultancy\, will 
 consider the relationship between gender and coaching as a part of authent
 ic\, inclusive leadership.\n\n*To book a place\, please visit: http://peer
 coaching.eventbrite.co.uk *
LOCATION:The Newton Room\, The Pitt Building\, Trumpington Street\, Cambri
 dge
END:VEVENT
END:VCALENDAR
