BEGIN:VCALENDAR
VERSION:2.0
PRODID:-//Talks.cam//talks.cam.ac.uk//
X-WR-CALNAME:Talks.cam
BEGIN:VEVENT
SUMMARY:Tour of the Botanic Garden - Botanic Garden Guide
DTSTART:20140623T171500Z
DTEND:20140623T184500Z
UID:TALK52105@talks.cam.ac.uk
CONTACT:Equality & Diversity
DESCRIPTION:Come and enjoy a guided tour of the Botanic Gardens and experi
 ence one of Cambridge's hidden gems. \n\nPlease note that there is a charg
 e of £4.50 for entry to the Botanic Garden. However\, as part of People M
 atter Week the guided tour is being offered for free (usually £5). \n\nPe
 ople attending this session can start arriving from 6pm for a prompt start
  of 6.15pm. Access for the Tour is via the cycle park on Bateman Street.\n
 \n*To book a place\, please visit: http://botanicgardentour.eventbrite.co.
 uk *
LOCATION:Cambridge University Botanic Garden. CB2 1JF
END:VEVENT
END:VCALENDAR
