BEGIN:VCALENDAR
VERSION:2.0
PRODID:-//Talks.cam//talks.cam.ac.uk//
X-WR-CALNAME:Talks.cam
BEGIN:VEVENT
SUMMARY:Does p matter in the p-obstacle problem? - Shahgholian\, H (KTH - 
 Royal Institute of Technology\, Stockholm)
DTSTART:20140423T141500Z
DTEND:20140423T151500Z
UID:TALK52130@talks.cam.ac.uk
CONTACT:Mustapha Amrani
DESCRIPTION:In this talk I shall discuss the growth\, from the free bounda
 ry\,for solutions to the p-obstacle problem. I shall unveil a  surprising 
 behavior for the p-elliptic case\, and also discuss some strange behavior 
 for the p-parabolic case. A "healthy" exercise\, in  the latter case\, is 
 to find two different growth rates\, for Barenblatt solution\,  at differe
 nt free boundary points. This is joint work with John Andersson and Erik L
 indgren.\n
LOCATION:Seminar Room 2\, Newton Institute Gatehouse
END:VEVENT
END:VCALENDAR
