BEGIN:VCALENDAR
VERSION:2.0
PRODID:-//Talks.cam//talks.cam.ac.uk//
X-WR-CALNAME:Talks.cam
BEGIN:VEVENT
SUMMARY:Gerhard Polt Visiting - Special Presentation - Gerhard Polt - Bava
 rian actor\, writer and comedian
DTSTART:20140527T160000Z
DTEND:20140527T173000Z
UID:TALK52571@talks.cam.ac.uk
CONTACT:Ulrike Balser
DESCRIPTION:On Tuesday 27 May\, the Bavarian film actor\, writer and comed
 ian Gerhard Polt will be a guest of the Department at a public event in St
  John’s College. Polt is well known in Germany for his performances in c
 omic films with a satirical edge\, and there are many dimensions to his wo
 rk (see "Gerhard Polt website":http://www.poltseite.de). In Cambridge he w
 ill be presenting his latest film\, _Und Äktschn!_\, an antidote to Hitle
 r films\, which was the subject of a recent interview in _Der Spiegel_: "S
 piegel Interview mit Gerhard Polt":http://www.spiegel.de/kultur/kino/gerha
 rd-polt-im-interview-ueber-seinen-hitler-film-und-aektschn-a-946071.html 
LOCATION:Main Lecture Theatre\, Divinity School\, St John's College (entra
 nce opposite the Main Gate of St John's)
END:VEVENT
END:VCALENDAR
